Package: MicrobiotaProcess Version: 1.20.0 Command: /Library/Frameworks/R.framework/Resources/bin/R CMD build --keep-empty-dirs --no-resave-data MicrobiotaProcess StartedAt: 2025-04-21 17:29:04 -0400 (Mon, 21 Apr 2025) EndedAt: 2025-04-21 17:32:17 -0400 (Mon, 21 Apr 2025) EllapsedTime: 193.3 seconds RetCode: 0 Status: OK PackageFile: MicrobiotaProcess_1.20.0.tar.gz PackageFileSize: 4.981 MiB