Package: MicrobiotaProcess Version: 1.20.0 Command: rm -rf MicrobiotaProcess.buildbin-libdir && mkdir MicrobiotaProcess.buildbin-libdir && /Users/biocbuild/BBS/utils/build-universal.sh MicrobiotaProcess_1.20.0.tar.gz /Library/Frameworks/R.framework/Resources/bin/R MicrobiotaProcess.buildbin-libdir StartedAt: 2025-04-22 00:54:46 -0400 (Tue, 22 Apr 2025) EndedAt: 2025-04-22 00:56:17 -0400 (Tue, 22 Apr 2025) EllapsedTime: 91.1 seconds RetCode: 0 Status: OK PackageFile: MicrobiotaProcess_1.20.0.tgz PackageFileSize: 5.743 MiB