Package: MicrobiotaProcess Version: 1.18.0 Command: /Library/Frameworks/R.framework/Resources/bin/R CMD INSTALL MicrobiotaProcess StartedAt: 2025-01-30 17:26:00 -0500 (Thu, 30 Jan 2025) EndedAt: 2025-01-30 17:27:08 -0500 (Thu, 30 Jan 2025) EllapsedTime: 67.6 seconds RetCode: 0 Status: OK