Package: MicrobiomeProfiler Version: 1.14.0 Command: chmod a+r MicrobiomeProfiler -R && E:\biocbuild\bbs-3.21-bioc\R\bin\R.exe CMD build --keep-empty-dirs --no-resave-data MicrobiomeProfiler StartedAt: 2025-08-14 20:25:05 -0400 (Thu, 14 Aug 2025) EndedAt: 2025-08-14 20:26:01 -0400 (Thu, 14 Aug 2025) EllapsedTime: 55.5 seconds RetCode: 0 Status: OK PackageFile: MicrobiomeProfiler_1.14.0.tar.gz PackageFileSize: 1.051 MiB