Package: MicrobiomeProfiler Version: 1.14.0 Command: rm -rf MicrobiomeProfiler.buildbin-libdir && mkdir MicrobiomeProfiler.buildbin-libdir && /Users/biocbuild/BBS/utils/build-universal.sh MicrobiomeProfiler_1.14.0.tar.gz /Library/Frameworks/R.framework/Resources/bin/R MicrobiomeProfiler.buildbin-libdir StartedAt: 2025-04-22 00:54:45 -0400 (Tue, 22 Apr 2025) EndedAt: 2025-04-22 00:55:19 -0400 (Tue, 22 Apr 2025) EllapsedTime: 34.3 seconds RetCode: 0 Status: OK PackageFile: MicrobiomeProfiler_1.14.0.tgz PackageFileSize: 948.4 KiB