Package: MiPP Version: 1.80.0 Command: chmod a+r MiPP -R && E:\biocbuild\bbs-3.21-bioc\R\bin\R.exe CMD build --keep-empty-dirs --no-resave-data MiPP StartedAt: 2025-08-14 20:26:39 -0400 (Thu, 14 Aug 2025) EndedAt: 2025-08-14 20:26:54 -0400 (Thu, 14 Aug 2025) EllapsedTime: 14.7 seconds RetCode: 0 Status: OK PackageFile: MiPP_1.80.0.tar.gz PackageFileSize: 319 KiB