Package: MiPP Version: 1.80.0 Command: /Library/Frameworks/R.framework/Resources/bin/R CMD INSTALL MiPP StartedAt: 2025-04-21 15:13:06 -0400 (Mon, 21 Apr 2025) EndedAt: 2025-04-21 15:13:23 -0400 (Mon, 21 Apr 2025) EllapsedTime: 16.8 seconds RetCode: 0 Status: OK