Package: MiChip Version: 1.60.0 Command: /home/biocbuild/R/R/bin/R CMD build --keep-empty-dirs --no-resave-data MiChip StartedAt: 2025-01-31 00:53:22 -0000 (Fri, 31 Jan 2025) EndedAt: 2025-01-31 00:53:32 -0000 (Fri, 31 Jan 2025) EllapsedTime: 10.0 seconds RetCode: 0 Status: OK PackageFile: MiChip_1.60.0.tar.gz PackageFileSize: 643.5 KiB