Package: Mfuzz Version: 2.68.0 Command: /Library/Frameworks/R.framework/Resources/bin/R CMD INSTALL Mfuzz StartedAt: 2025-05-01 15:21:56 -0400 (Thu, 01 May 2025) EndedAt: 2025-05-01 15:22:24 -0400 (Thu, 01 May 2025) EllapsedTime: 27.8 seconds RetCode: 0 Status: OK