Package: Mfuzz Version: 2.68.0 Command: /Library/Frameworks/R.framework/Resources/bin/R CMD check --install=check:Mfuzz.install-out.txt --library=/Library/Frameworks/R.framework/Resources/library --no-vignettes --timings Mfuzz_2.68.0.tar.gz StartedAt: 2025-05-02 05:54:56 -0400 (Fri, 02 May 2025) EndedAt: 2025-05-02 05:56:18 -0400 (Fri, 02 May 2025) EllapsedTime: 81.5 seconds RetCode: 0 Status: OK CheckDir: Mfuzz.Rcheck Warnings: 0