Package: Mfuzz Version: 2.66.0 Command: /home/biocbuild/R/R/bin/R CMD INSTALL Mfuzz StartedAt: 2024-11-19 20:33:27 -0000 (Tue, 19 Nov 2024) EndedAt: 2024-11-19 20:33:50 -0000 (Tue, 19 Nov 2024) EllapsedTime: 23.1 seconds RetCode: 0 Status: OK