Package: Mfuzz Version: 2.68.0 Command: /Library/Frameworks/R.framework/Resources/bin/R CMD INSTALL Mfuzz StartedAt: 2025-04-21 15:07:37 -0400 (Mon, 21 Apr 2025) EndedAt: 2025-04-21 15:07:40 -0400 (Mon, 21 Apr 2025) EllapsedTime: 3.0 seconds RetCode: 0 Status: OK