Package: MethylSeekR Version: 1.48.0 Command: /Library/Frameworks/R.framework/Resources/bin/R CMD build --keep-empty-dirs --no-resave-data MethylSeekR StartedAt: 2025-09-30 04:15:16 -0400 (Tue, 30 Sep 2025) EndedAt: 2025-09-30 04:17:16 -0400 (Tue, 30 Sep 2025) EllapsedTime: 119.8 seconds RetCode: 0 Status: OK PackageFile: MethylSeekR_1.48.0.tar.gz PackageFileSize: 1.594 MiB