Package: MethylAid Version: 1.42.0 Command: /home/biocbuild/bbs-3.21-bioc/R/bin/R CMD build --keep-empty-dirs --no-resave-data MethylAid StartedAt: 2025-09-28 18:39:21 -0400 (Sun, 28 Sep 2025) EndedAt: 2025-09-28 18:41:49 -0400 (Sun, 28 Sep 2025) EllapsedTime: 148.1 seconds RetCode: 0 Status: OK PackageFile: MethylAid_1.42.0.tar.gz PackageFileSize: 3.013 MiB