Package: MethylAid Version: 1.42.0 Maintainer: L.J.Sinke MaintainerEmail: L.J.Sinke at lumc.nl git_url: https://git.bioconductor.org/packages/MethylAid git_branch: RELEASE_3_21 git_last_commit: 63538a9 git_last_commit_date: 2025-04-15 10:31:33 -0400 (Tue, 15 Apr 2025)