Package: MethTargetedNGS Version: 1.40.0 Command: /Library/Frameworks/R.framework/Resources/bin/R CMD check --install=check:MethTargetedNGS.install-out.txt --library=/Library/Frameworks/R.framework/Resources/library --no-vignettes --timings MethTargetedNGS_1.40.0.tar.gz StartedAt: 2025-05-20 05:38:04 -0400 (Tue, 20 May 2025) EndedAt: 2025-05-20 05:41:29 -0400 (Tue, 20 May 2025) EllapsedTime: 204.5 seconds RetCode: 0 Status: OK CheckDir: MethTargetedNGS.Rcheck Warnings: 0