Package: MethReg Version: 1.18.0 Command: rm -rf MethReg.buildbin-libdir && mkdir MethReg.buildbin-libdir && /Users/biocbuild/BBS/utils/build-universal.sh MethReg_1.18.0.tar.gz /Library/Frameworks/R.framework/Resources/bin/R MethReg.buildbin-libdir StartedAt: 2025-10-10 13:59:48 -0400 (Fri, 10 Oct 2025) EndedAt: 2025-10-10 14:03:30 -0400 (Fri, 10 Oct 2025) EllapsedTime: 221.7 seconds RetCode: 0 Status: OK PackageFile: MethReg_1.18.0.tgz PackageFileSize: 4.516 MiB