Package: MethReg Version: 1.18.0 Maintainer: Tiago Silva MaintainerEmail: tiagochst at gmail.com git_url: https://git.bioconductor.org/packages/MethReg git_branch: RELEASE_3_21 git_last_commit: cc9ab7e git_last_commit_date: 2025-04-15 12:09:21 -0400 (Tue, 15 Apr 2025)