Package: MetaboSignal Version: 1.36.0 Command: /home/biocbuild/R/R/bin/R CMD check --install=check:MetaboSignal.install-out.txt --library=/home/biocbuild/R/R/site-library --no-vignettes --timings MetaboSignal_1.36.0.tar.gz StartedAt: 2025-01-31 07:53:16 -0000 (Fri, 31 Jan 2025) EndedAt: 2025-01-31 08:00:03 -0000 (Fri, 31 Jan 2025) EllapsedTime: 406.6 seconds RetCode: 0 Status: OK CheckDir: MetaboSignal.Rcheck Warnings: 0