Package: MetaboSignal Version: 1.38.0 Command: chmod a+r MetaboSignal -R && E:\biocbuild\bbs-3.21-bioc\R\bin\R.exe CMD build --keep-empty-dirs --no-resave-data MetaboSignal StartedAt: 2025-08-14 20:16:05 -0400 (Thu, 14 Aug 2025) EndedAt: 2025-08-14 20:18:30 -0400 (Thu, 14 Aug 2025) EllapsedTime: 145.5 seconds RetCode: 0 Status: OK PackageFile: MetaboSignal_1.38.0.tar.gz PackageFileSize: 2.089 MiB