Package: MetaboSignal Version: 1.38.0 Maintainer: Andrea Rodriguez-Martinez MaintainerEmail: andrea.rodriguez-martinez13 at imperial.ac.uk git_url: https://git.bioconductor.org/packages/MetaboSignal git_branch: RELEASE_3_21 git_last_commit: 2b03e8e git_last_commit_date: 2025-04-15 11:04:52 -0400 (Tue, 15 Apr 2025)