Package: MetaboDynamics Version: 2.0.0 Command: /home/biocbuild/bbs-3.22-bioc/R/bin/R CMD INSTALL MetaboDynamics StartedAt: 2025-11-17 17:24:39 -0500 (Mon, 17 Nov 2025) EndedAt: 2025-11-17 17:30:07 -0500 (Mon, 17 Nov 2025) EllapsedTime: 328.1 seconds RetCode: 0 Status: OK