Package: MetaboDynamics Version: 2.0.0 Command: /home/biocbuild/bbs-3.22-bioc/R/bin/R CMD build --keep-empty-dirs --no-resave-data --md5 MetaboDynamics StartedAt: 2025-11-17 21:55:10 -0500 (Mon, 17 Nov 2025) EndedAt: 2025-11-17 22:02:50 -0500 (Mon, 17 Nov 2025) EllapsedTime: 460.4 seconds RetCode: 0 Status: OK PackageFile: MetaboDynamics_2.0.0.tar.gz PackageFileSize: 7.196 MiB