Package: MetaboDynamics Version: 2.0.0 Command: /Library/Frameworks/R.framework/Resources/bin/R CMD build --keep-empty-dirs --no-resave-data MetaboDynamics StartedAt: 2025-10-31 16:59:22 -0400 (Fri, 31 Oct 2025) EndedAt: 2025-10-31 17:01:53 -0400 (Fri, 31 Oct 2025) EllapsedTime: 151.7 seconds RetCode: 0 Status: OK PackageFile: MetaboDynamics_2.0.0.tar.gz PackageFileSize: 6.78 MiB