Package: MetaboDynamics Version: 2.0.0 Command: rm -rf MetaboDynamics.buildbin-libdir && mkdir MetaboDynamics.buildbin-libdir && /Users/biocbuild/BBS/utils/build-universal.sh MetaboDynamics_2.0.0.tar.gz /Library/Frameworks/R.framework/Resources/bin/R MetaboDynamics.buildbin-libdir StartedAt: 2025-11-02 23:10:50 -0500 (Sun, 02 Nov 2025) EndedAt: 2025-11-02 23:12:14 -0500 (Sun, 02 Nov 2025) EllapsedTime: 84.4 seconds RetCode: 0 Status: OK PackageFile: MetaboDynamics_2.0.0.tgz PackageFileSize: 7.9 MiB