Package: MetaboDynamics Version: 2.0.0 Command: /Library/Frameworks/R.framework/Resources/bin/R CMD build --keep-empty-dirs --no-resave-data MetaboDynamics StartedAt: 2025-11-17 22:36:25 -0500 (Mon, 17 Nov 2025) EndedAt: 2025-11-17 22:39:16 -0500 (Mon, 17 Nov 2025) EllapsedTime: 170.7 seconds RetCode: 0 Status: OK PackageFile: MetaboDynamics_2.0.0.tar.gz PackageFileSize: 6.828 MiB