Package: MetaboCoreUtils Version: 1.17.1 Command: /home/biocbuild/R/R/bin/R CMD INSTALL MetaboCoreUtils StartedAt: 2025-10-23 20:32:04 -0000 (Thu, 23 Oct 2025) EndedAt: 2025-10-23 20:32:13 -0000 (Thu, 23 Oct 2025) EllapsedTime: 8.6 seconds RetCode: 0 Status: OK