Package: MetaboCoreUtils Version: 1.16.1 Command: /home/biocbuild/bbs-3.21-bioc/R/bin/R CMD INSTALL MetaboCoreUtils StartedAt: 2025-10-01 15:15:47 -0400 (Wed, 01 Oct 2025) EndedAt: 2025-10-01 15:15:52 -0400 (Wed, 01 Oct 2025) EllapsedTime: 4.9 seconds RetCode: 0 Status: OK