Package: MetaboCoreUtils Version: 1.16.1 Command: rm -rf MetaboCoreUtils.buildbin-libdir && mkdir MetaboCoreUtils.buildbin-libdir && /Users/biocbuild/BBS/utils/build-universal.sh MetaboCoreUtils_1.16.1.tar.gz /Library/Frameworks/R.framework/Resources/bin/R MetaboCoreUtils.buildbin-libdir StartedAt: 2025-05-24 16:14:59 -0400 (Sat, 24 May 2025) EndedAt: 2025-05-24 16:15:06 -0400 (Sat, 24 May 2025) EllapsedTime: 7.9 seconds RetCode: 0 Status: OK PackageFile: MetaboCoreUtils_1.16.1.tgz PackageFileSize: 1.083 MiB