Package: MetaboAnnotation Version: 1.10.1 Command: /home/biocbuild/R/R/bin/R CMD check --install=check:MetaboAnnotation.install-out.txt --library=/home/biocbuild/R/R/site-library --no-vignettes --timings MetaboAnnotation_1.10.1.tar.gz StartedAt: 2025-01-31 07:52:19 -0000 (Fri, 31 Jan 2025) EndedAt: 2025-01-31 07:58:38 -0000 (Fri, 31 Jan 2025) EllapsedTime: 378.5 seconds RetCode: 0 Status: OK CheckDir: MetaboAnnotation.Rcheck Warnings: 0