Package: MetaPhOR Version: 1.10.0 Command: /Library/Frameworks/R.framework/Resources/bin/R CMD build --keep-empty-dirs --no-resave-data MetaPhOR StartedAt: 2025-04-21 17:24:21 -0400 (Mon, 21 Apr 2025) EndedAt: 2025-04-21 17:42:58 -0400 (Mon, 21 Apr 2025) EllapsedTime: 1117.4 seconds RetCode: 0 Status: OK PackageFile: MetaPhOR_1.10.0.tar.gz PackageFileSize: 2.739 MiB