Package: MetaPhOR Version: 1.10.0 Command: rm -rf MetaPhOR.buildbin-libdir && mkdir MetaPhOR.buildbin-libdir && /Users/biocbuild/BBS/utils/build-universal.sh MetaPhOR_1.10.0.tar.gz /Library/Frameworks/R.framework/Resources/bin/R MetaPhOR.buildbin-libdir StartedAt: 2025-04-22 00:53:54 -0400 (Tue, 22 Apr 2025) EndedAt: 2025-04-22 00:54:31 -0400 (Tue, 22 Apr 2025) EllapsedTime: 36.8 seconds RetCode: 0 Status: OK PackageFile: MetaPhOR_1.10.0.tgz PackageFileSize: 2.768 MiB