Package: MetaPhOR Version: 1.10.0 Command: rm -rf MetaPhOR.buildbin-libdir && mkdir MetaPhOR.buildbin-libdir && /Users/biocbuild/BBS/utils/build-universal.sh MetaPhOR_1.10.0.tar.gz /Library/Frameworks/R.framework/Resources/bin/R MetaPhOR.buildbin-libdir StartedAt: 2025-05-14 15:42:41 -0400 (Wed, 14 May 2025) EndedAt: 2025-05-14 15:43:12 -0400 (Wed, 14 May 2025) EllapsedTime: 31.4 seconds RetCode: 0 Status: OK PackageFile: MetaPhOR_1.10.0.tgz PackageFileSize: 2.77 MiB