Package: MetaNeighbor Version: 1.26.0 Command: /home/biocbuild/R/R/bin/R CMD build --keep-empty-dirs --no-resave-data MetaNeighbor StartedAt: 2025-01-31 00:45:55 -0000 (Fri, 31 Jan 2025) EndedAt: 2025-01-31 00:49:32 -0000 (Fri, 31 Jan 2025) EllapsedTime: 216.1 seconds RetCode: 0 Status: OK PackageFile: MetaNeighbor_1.26.0.tar.gz PackageFileSize: 3.184 MiB