Package: MetaNeighbor Version: 1.28.0 Command: /Library/Frameworks/R.framework/Resources/bin/R CMD build --keep-empty-dirs --no-resave-data MetaNeighbor StartedAt: 2025-05-01 20:13:02 -0400 (Thu, 01 May 2025) EndedAt: 2025-05-01 20:14:08 -0400 (Thu, 01 May 2025) EllapsedTime: 66.1 seconds RetCode: 0 Status: OK PackageFile: MetaNeighbor_1.28.0.tar.gz PackageFileSize: 3.194 MiB