Package: MetaNeighbor Version: 1.28.0 Command: rm -rf MetaNeighbor.buildbin-libdir && mkdir MetaNeighbor.buildbin-libdir && /Users/biocbuild/BBS/utils/build-universal.sh MetaNeighbor_1.28.0.tar.gz /Library/Frameworks/R.framework/Resources/bin/R MetaNeighbor.buildbin-libdir StartedAt: 2025-04-22 00:53:54 -0400 (Tue, 22 Apr 2025) EndedAt: 2025-04-22 00:54:02 -0400 (Tue, 22 Apr 2025) EllapsedTime: 8.0 seconds RetCode: 0 Status: OK PackageFile: MetaNeighbor_1.28.0.tgz PackageFileSize: 4.171 MiB