Package: MetaNeighbor Version: 1.28.0 Command: /home/biocbuild/R/R/bin/R CMD INSTALL MetaNeighbor StartedAt: 2025-04-21 20:33:41 -0000 (Mon, 21 Apr 2025) EndedAt: 2025-04-21 20:33:46 -0000 (Mon, 21 Apr 2025) EllapsedTime: 4.7 seconds RetCode: 0 Status: OK