Package: MetaNeighbor Version: 1.28.0 Command: /home/biocbuild/R/R/bin/R CMD check --install=check:MetaNeighbor.install-out.txt --library=/home/biocbuild/R/R/site-library --no-vignettes --timings MetaNeighbor_1.28.0.tar.gz StartedAt: 2025-04-22 10:49:30 -0000 (Tue, 22 Apr 2025) EndedAt: 2025-04-22 11:01:21 -0000 (Tue, 22 Apr 2025) EllapsedTime: 710.7 seconds RetCode: 0 Status: OK CheckDir: MetaNeighbor.Rcheck Warnings: 0