Package: MetaNeighbor Version: 1.28.0 Command: /Library/Frameworks/R.framework/Resources/bin/R CMD INSTALL MetaNeighbor StartedAt: 2025-04-21 15:13:39 -0400 (Mon, 21 Apr 2025) EndedAt: 2025-04-21 15:13:41 -0400 (Mon, 21 Apr 2025) EllapsedTime: 2.5 seconds RetCode: 0 Status: OK