Package: MetaNeighbor Version: 1.26.0 Command: rm -rf MetaNeighbor.buildbin-libdir && mkdir MetaNeighbor.buildbin-libdir && /Users/biocbuild/BBS/utils/build-universal.sh MetaNeighbor_1.26.0.tar.gz /Library/Frameworks/R.framework/Resources/bin/R MetaNeighbor.buildbin-libdir StartedAt: 2025-02-01 15:38:41 -0500 (Sat, 01 Feb 2025) EndedAt: 2025-02-01 15:38:49 -0500 (Sat, 01 Feb 2025) EllapsedTime: 7.8 seconds RetCode: 0 Status: OK PackageFile: MetaNeighbor_1.26.0.tgz PackageFileSize: 4.143 MiB