Package: MetaDICT Version: 1.0.0 Command: /home/biocbuild/bbs-3.22-bioc/R/bin/R CMD INSTALL MetaDICT StartedAt: 2025-11-05 15:17:24 -0500 (Wed, 05 Nov 2025) EndedAt: 2025-11-05 15:17:34 -0500 (Wed, 05 Nov 2025) EllapsedTime: 9.5 seconds RetCode: 0 Status: OK