Package: MetaDICT Version: 1.0.0 Command: /home/biocbuild/bbs-3.22-bioc/R/bin/R CMD build --keep-empty-dirs --no-resave-data --md5 MetaDICT StartedAt: 2025-11-05 18:41:44 -0500 (Wed, 05 Nov 2025) EndedAt: 2025-11-05 18:49:06 -0500 (Wed, 05 Nov 2025) EllapsedTime: 441.4 seconds RetCode: 0 Status: OK PackageFile: MetaDICT_1.0.0.tar.gz PackageFileSize: 2.142 MiB