Package: MetaDICT Version: 1.0.0 Command: /Library/Frameworks/R.framework/Resources/bin/R CMD INSTALL MetaDICT StartedAt: 2025-11-06 15:05:36 -0500 (Thu, 06 Nov 2025) EndedAt: 2025-11-06 15:05:40 -0500 (Thu, 06 Nov 2025) EllapsedTime: 4.6 seconds RetCode: 0 Status: OK