Package: MetaDICT Version: 1.0.0 Command: /Library/Frameworks/R.framework/Resources/bin/R CMD build --keep-empty-dirs --no-resave-data MetaDICT StartedAt: 2025-11-06 16:55:50 -0500 (Thu, 06 Nov 2025) EndedAt: 2025-11-06 16:57:20 -0500 (Thu, 06 Nov 2025) EllapsedTime: 90.0 seconds RetCode: 0 Status: OK PackageFile: MetaDICT_1.0.0.tar.gz PackageFileSize: 2.195 MiB