Package: MetaDICT Version: 1.0.0 Command: /Library/Frameworks/R.framework/Resources/bin/R CMD INSTALL MetaDICT StartedAt: 2025-11-24 15:32:39 -0500 (Mon, 24 Nov 2025) EndedAt: 2025-11-24 15:32:55 -0500 (Mon, 24 Nov 2025) EllapsedTime: 15.8 seconds RetCode: 0 Status: OK