Package: MetaDICT Version: 1.0.0 Command: /Library/Frameworks/R.framework/Resources/bin/R CMD build --keep-empty-dirs --no-resave-data MetaDICT StartedAt: 2025-11-25 03:47:40 -0500 (Tue, 25 Nov 2025) EndedAt: 2025-11-25 03:51:17 -0500 (Tue, 25 Nov 2025) EllapsedTime: 217.0 seconds RetCode: 0 Status: OK PackageFile: MetaDICT_1.0.0.tar.gz PackageFileSize: 2.202 MiB