Package: MetNet Version: 1.24.0 Command: /home/biocbuild/R/R/bin/R CMD check --install=check:MetNet.install-out.txt --library=/home/biocbuild/R/R/site-library --no-vignettes --timings MetNet_1.24.0.tar.gz StartedAt: 2025-01-31 08:00:40 -0000 (Fri, 31 Jan 2025) EndedAt: 2025-01-31 08:07:46 -0000 (Fri, 31 Jan 2025) EllapsedTime: 426.5 seconds RetCode: 0 Status: OK CheckDir: MetNet.Rcheck Warnings: 0