Package: MetID Version: 1.24.0 Command: F:\biocbuild\bbs-3.20-bioc\R\bin\R.exe CMD INSTALL MetID StartedAt: 2025-01-30 16:49:52 -0500 (Thu, 30 Jan 2025) EndedAt: 2025-01-30 16:50:12 -0500 (Thu, 30 Jan 2025) EllapsedTime: 19.1 seconds RetCode: 0 Status: OK