Package: MetID Version: 1.24.0 Command: rm -rf MetID.buildbin-libdir && mkdir MetID.buildbin-libdir && F:\biocbuild\bbs-3.20-bioc\R\bin\R.exe CMD INSTALL --build --library=MetID.buildbin-libdir MetID_1.24.0.tar.gz StartedAt: 2025-01-31 09:02:03 -0500 (Fri, 31 Jan 2025) EndedAt: 2025-01-31 09:02:23 -0500 (Fri, 31 Jan 2025) EllapsedTime: 19.9 seconds RetCode: 0 Status: OK PackageFile: MetID_1.24.0.zip PackageFileSize: 1.736 MiB