Package: MetID Version: 1.24.0 Command: rm -rf MetID.buildbin-libdir && mkdir MetID.buildbin-libdir && /Users/biocbuild/BBS/utils/build-universal.sh MetID_1.24.0.tar.gz /Library/Frameworks/R.framework/Resources/bin/R MetID.buildbin-libdir StartedAt: 2025-01-31 13:09:08 -0500 (Fri, 31 Jan 2025) EndedAt: 2025-01-31 13:09:35 -0500 (Fri, 31 Jan 2025) EllapsedTime: 26.5 seconds RetCode: 0 Status: OK PackageFile: MetID_1.24.0.tgz PackageFileSize: 1.859 MiB